BEGIN:VCALENDAR
VERSION:2.0
PRODID:-//wp-events-plugin.com//7.2.3.1//EN
TZID:America/Chicago
X-WR-TIMEZONE:America/Chicago
BEGIN:VEVENT
UID:96@nwhosta.org
DTSTART;TZID=America/Chicago:20260426T090000
DTEND;TZID=America/Chicago:20260426T120000
DTSTAMP:20260413T125237Z
URL:https://nwhosta.org/events/2026-nwhs-memorial-garden-clean-up/
SUMMARY:2026 NWHS Memorial Garden Clean-up
DESCRIPTION:This year's Dahl-Roeder Memorial Garden cleanup will focus on w
 eeding and applying mulch. There are a few bare areas\, so if you have any
  of the more deer resistant hosta or companion varieties to spare\, please
  bring them along with tools to rake\, weed\, dig\, and containers to haul
  away debris.
CATEGORIES:NWHS Event
LOCATION:Dahl-Roeder Memorial Garden\, Wilson Park\, 7th St E\, Menomonie\,
  \, 
X-APPLE-STRUCTURED-LOCATION;VALUE=URI;X-ADDRESS=7th St E\, Menomonie\, http
 s://www.google.com/maps/place/44°52'29.1%22N+91°55'18.9%22W/@44.87475\,-
 91.9241054\,17z/data=!3m1!4b1!4m5!3m4!1s0x0:0x0!8m2!3d44.87475!4d-91.92191
 67\, United States;X-APPLE-RADIUS=100;X-TITLE=Dahl-Roeder Memorial Garden\
 , Wilson Park:geo:0,0
END:VEVENT
BEGIN:VTIMEZONE
TZID:America/Chicago
X-LIC-LOCATION:America/Chicago
BEGIN:DAYLIGHT
DTSTART:20260308T030000
TZOFFSETFROM:-0600
TZOFFSETTO:-0500
TZNAME:CDT
END:DAYLIGHT
END:VTIMEZONE
END:VCALENDAR